BEGIN:VCALENDAR
VERSION:2.0
PRODID:-//The Manners Housing Foundation - ECPv6.15.20//NONSGML v1.0//EN
CALSCALE:GREGORIAN
METHOD:PUBLISH
X-ORIGINAL-URL:https://mannershousing.org
X-WR-CALDESC:Events for The Manners Housing Foundation
REFRESH-INTERVAL;VALUE=DURATION:PT1H
X-Robots-Tag:noindex
X-PUBLISHED-TTL:PT1H
BEGIN:VTIMEZONE
TZID:UTC
BEGIN:STANDARD
TZOFFSETFROM:+0000
TZOFFSETTO:+0000
TZNAME:UTC
DTSTART:20180101T000000
END:STANDARD
END:VTIMEZONE
BEGIN:VEVENT
DTSTART;TZID=UTC:20191013T100000
DTEND;TZID=UTC:20191019T210000
DTSTAMP:20260423T234127
CREATED:20200701T205402Z
LAST-MODIFIED:20200701T205712Z
UID:1058-1570960800-1571518800@mannershousing.org
SUMMARY:Five Below Fundraising Shopping Event
DESCRIPTION:Visit Five Below and 10% of your purchases will be donated back to the Manners Housing Foundation. If you have never shopped at Five Below you are in for a treat. Never pay more than $5 for the coolest stuff and best brands. From toys and games for kids to beauty products\, home organization\, sports\, candy\, and party supplies. This will be your new favorite store. \nYou can come to the Clearwater location or any Five Below in Tampa Bay area. Event dates and times: \n\nSunday\, Oct. 13\, 10 a.m. to 6 p.m.\nMonday-Saturday\, Oct. 14-19\, 10 a.m. to 9 p.m.\n\nSend the flyer to your friends and family and spread the word. Please do not hand out copies of the flyer at the location you visit as this is prohibited. Thanks for supporting Manners House Foundation.
URL:https://mannershousing.org/event/five-below-fundraising-shopping-event/
LOCATION:Five Below-23678 US Highway 19 N  Clearwater\, FL 33765\, 23678 U.S. Highway 19 N.\, Clearwater\, FL\, 33765\, United States
CATEGORIES:Charity
ATTACH;FMTTYPE=image/png:https://mannershousing.org/wp-content/uploads/2020/06/Five-Below-logo-stacked-blue-1.png
END:VEVENT
BEGIN:VEVENT
DTSTART;TZID=UTC:20190928T100000
DTEND;TZID=UTC:20190928T120000
DTSTAMP:20260423T234127
CREATED:20200701T211107Z
LAST-MODIFIED:20200701T211107Z
UID:1069-1569664800-1569672000@mannershousing.org
SUMMARY:Fall Board of Directors Meeting - Open to Public
DESCRIPTION:Join us at Panera Bread (Meeting Room) for our next Board of Directors Meeting. Hosted by the Manner’s Housing Foundation\, this meeting is open to the public.
URL:https://mannershousing.org/event/fall-board-of-directors-meeting-open-to-public/
LOCATION:Panera Bread\, 2285 Ulmerton Road\, Clearwater\, FL\, 33762\, United States
CATEGORIES:Charity
ATTACH;FMTTYPE=image/jpeg:https://mannershousing.org/wp-content/uploads/2020/07/panera.jpg
END:VEVENT
BEGIN:VEVENT
DTSTART;TZID=UTC:20190925T170000
DTEND;TZID=UTC:20190925T210000
DTSTAMP:20260423T234127
CREATED:20200701T211628Z
LAST-MODIFIED:20200701T212053Z
UID:1073-1569430800-1569445200@mannershousing.org
SUMMARY:Buffalo Wild Wings Fundraiser
DESCRIPTION:Eat Wings and raise money for the Manners Housing Foundation. On the day of the event\, Buffalo Wild Wings will donate 15% of all pre-taxed food sales (not including alcohol and promotional discounts) from any guest that presents this fundraising ticket. You must print the ticket (phone image is not valid) and present it to the server before ordering in order for donation to be applied. This fundraiser is only at the Largo location. Hope to see you there. \nMake sure you print out this ticket and bring to the event.
URL:https://mannershousing.org/event/buffalo-wild-wings-fundraiser/
LOCATION:Buffalo Wild Wings Largo\, 10500 Ulmerton Road\, Largo\, FL\, 33771\, United States
CATEGORIES:Charity,Education
ATTACH;FMTTYPE=image/jpeg:https://mannershousing.org/wp-content/uploads/2020/07/Buffalo-WIld-Wings.jpg
END:VEVENT
BEGIN:VEVENT
DTSTART;TZID=UTC:20190910T170000
DTEND;TZID=UTC:20190910T200000
DTSTAMP:20260423T234127
CREATED:20200701T212457Z
LAST-MODIFIED:20200701T212728Z
UID:1080-1568134800-1568145600@mannershousing.org
SUMMARY:Portillo's for GOOD Fundraiser
DESCRIPTION:Join us for a night of great food and fun for a good cause on Tuesday\, Sept. 10 from 5-8 p.m. at Portillo’s in Tampa. Bring in this flyer or show it on your smartphone and 20% of the proceeds will benefit The Manners Housing Foundation. We look forward to seeing you there.
URL:https://mannershousing.org/event/portillos-for-good-fundraiser/
LOCATION:Portillos\, 2101 E. Fowler Ave.\, Tampa\, FL\, 33612\, United States
CATEGORIES:Charity
ATTACH;FMTTYPE=image/png:https://mannershousing.org/wp-content/uploads/2020/07/portillos-e1567271649322.png
END:VEVENT
END:VCALENDAR